BEGIN:VCALENDAR
VERSION:2.0
PRODID:-//AGSW 2027 - LGBTQ+ Aspen - ECPv6.15.17.1//NONSGML v1.0//EN
CALSCALE:GREGORIAN
METHOD:PUBLISH
X-ORIGINAL-URL:https://gayskiweek.com
X-WR-CALDESC:Events for AGSW 2027 - LGBTQ+ Aspen
REFRESH-INTERVAL;VALUE=DURATION:PT1H
X-Robots-Tag:noindex
X-PUBLISHED-TTL:PT1H
BEGIN:VTIMEZONE
TZID:America/Denver
BEGIN:DAYLIGHT
TZOFFSETFROM:-0700
TZOFFSETTO:-0600
TZNAME:MDT
DTSTART:20250309T090000
END:DAYLIGHT
BEGIN:STANDARD
TZOFFSETFROM:-0600
TZOFFSETTO:-0700
TZNAME:MST
DTSTART:20251102T080000
END:STANDARD
BEGIN:DAYLIGHT
TZOFFSETFROM:-0700
TZOFFSETTO:-0600
TZNAME:MDT
DTSTART:20260308T090000
END:DAYLIGHT
BEGIN:STANDARD
TZOFFSETFROM:-0600
TZOFFSETTO:-0700
TZNAME:MST
DTSTART:20261101T080000
END:STANDARD
BEGIN:DAYLIGHT
TZOFFSETFROM:-0700
TZOFFSETTO:-0600
TZNAME:MDT
DTSTART:20270314T090000
END:DAYLIGHT
BEGIN:STANDARD
TZOFFSETFROM:-0600
TZOFFSETTO:-0700
TZNAME:MST
DTSTART:20271107T080000
END:STANDARD
END:VTIMEZONE
BEGIN:VEVENT
DTSTART;TZID=America/Denver:20260225T193000
DTEND;TZID=America/Denver:20260225T210000
DTSTAMP:20260420T062947
CREATED:20260219T204640Z
LAST-MODIFIED:20260219T205559Z
UID:10015062-1772047800-1772053200@gayskiweek.com
SUMMARY:Snowmass Live Comedy: Liza Treyger - The Collective
DESCRIPTION:Click Here For Tickets\n			\n				\n				\n				\n				\n				About Liza Treyger:\nLiza Treyger is a stand-up comic who most recently was seen in the Judd Apatow movie King of Staten Island and HBO’s Pause w/Sam Jay. She has Netflix and Comedy Central half-hour specials and has appeared on Late Night with Seth Meyers\, Chelsea Lately\, @midnight\, Lights Out with David Spade\, This is Not Happening\, and many more fun things\, and in Horace and Pete. She is the co-host of the SVU podcast That’s Messed Up and the host of her own podcast\, Enemies. What makes her most proud is that she regularly performs at The Comedy Cellar and The Comedy Store. \nAdmission Information:Reservations are encouraged. Seating will be available on a first-come\, first-served basis\, and priority will be given to those with reservations. Large groups should arrive early to ensure the best seating. \nShow Content \nShows feature adult content and may not be suitable for those ages 18 and younger. \nFood and Beverage \nBar service will be available before the show at Slope & Hatch. Come early and grab a bite in Snowmass Base Village. \nParking and Transportation \nParking is free after 4p.m. in the Snowmass Base Village parking structure\, or free shuttles run from the Rodeo Lot\, Intercept Lot\, and Aspen.
URL:https://gayskiweek.com/event/snowmass-live-comedy-liza-treyger-the-collective/
LOCATION:The Collective Snowmass\, 49 Wood Road\, Snowmass Village\, CO\, 81615\, United States
CATEGORIES:Snowmass
ATTACH;FMTTYPE=image/webp:https://gayskiweek.com/wp-content/uploads/2026/02/the-collective-snowmass-comedy-Liza-Treyger.webp
END:VEVENT
END:VCALENDAR