BEGIN:VCALENDAR
VERSION:2.0
PRODID:-//AGSW 2027 - LGBTQ+ Aspen - ECPv6.15.17.1//NONSGML v1.0//EN
CALSCALE:GREGORIAN
METHOD:PUBLISH
X-WR-CALNAME:AGSW 2027 - LGBTQ+ Aspen
X-ORIGINAL-URL:https://gayskiweek.com
X-WR-CALDESC:Events for AGSW 2027 - LGBTQ+ Aspen
REFRESH-INTERVAL;VALUE=DURATION:PT1H
X-Robots-Tag:noindex
X-PUBLISHED-TTL:PT1H
BEGIN:VTIMEZONE
TZID:America/Denver
BEGIN:DAYLIGHT
TZOFFSETFROM:-0700
TZOFFSETTO:-0600
TZNAME:MDT
DTSTART:20250309T090000
END:DAYLIGHT
BEGIN:STANDARD
TZOFFSETFROM:-0600
TZOFFSETTO:-0700
TZNAME:MST
DTSTART:20251102T080000
END:STANDARD
BEGIN:DAYLIGHT
TZOFFSETFROM:-0700
TZOFFSETTO:-0600
TZNAME:MDT
DTSTART:20260308T090000
END:DAYLIGHT
BEGIN:STANDARD
TZOFFSETFROM:-0600
TZOFFSETTO:-0700
TZNAME:MST
DTSTART:20261101T080000
END:STANDARD
BEGIN:DAYLIGHT
TZOFFSETFROM:-0700
TZOFFSETTO:-0600
TZNAME:MDT
DTSTART:20270314T090000
END:DAYLIGHT
BEGIN:STANDARD
TZOFFSETFROM:-0600
TZOFFSETTO:-0700
TZNAME:MST
DTSTART:20271107T080000
END:STANDARD
END:VTIMEZONE
BEGIN:VTIMEZONE
TZID:America/Denver
BEGIN:DAYLIGHT
TZOFFSETFROM:-0700
TZOFFSETTO:-0600
TZNAME:MDT
DTSTART:20250309T090000
END:DAYLIGHT
BEGIN:STANDARD
TZOFFSETFROM:-0600
TZOFFSETTO:-0700
TZNAME:MST
DTSTART:20251102T080000
END:STANDARD
BEGIN:DAYLIGHT
TZOFFSETFROM:-0700
TZOFFSETTO:-0600
TZNAME:MDT
DTSTART:20260308T090000
END:DAYLIGHT
BEGIN:STANDARD
TZOFFSETFROM:-0600
TZOFFSETTO:-0700
TZNAME:MST
DTSTART:20261101T080000
END:STANDARD
BEGIN:DAYLIGHT
TZOFFSETFROM:-0700
TZOFFSETTO:-0600
TZNAME:MDT
DTSTART:20270314T090000
END:DAYLIGHT
BEGIN:STANDARD
TZOFFSETFROM:-0600
TZOFFSETTO:-0700
TZNAME:MST
DTSTART:20271107T080000
END:STANDARD
END:VTIMEZONE
BEGIN:VEVENT
DTSTART;TZID=America/Denver:20260112T080000
DTEND;TZID=America/Denver:20260112T190000
DTSTAMP:20260419T083805
CREATED:20240621T212219Z
LAST-MODIFIED:20251003T011100Z
UID:10015036-1768204800-1768244400@gayskiweek.com
SUMMARY:HOSPITALITY SUITE – LIMELIGHT HOTEL – 8:00AM-11:00AM and 3:00PM-7:00PM
DESCRIPTION:NO COVER. For day-to-day updates during AGSW 2026\, please sign up for our Text Club. \nThe Hospitality Suite is your connection to all things AGSW. We can help answer your questions\, provide a program of events\, and get you hooked up with some swag. Pop in and visit us daily from 8:00AM-11:00AM and 3:00-7:00PM. \nFollow our social media for the latest info on all things Gay Ski Week. \nLift tickets and rentals can be purchased online here: https://gayskiweek.com/plan-your-trip/lift-tickets/ \n			\n			\n				\n				\n				\n				\n			\n				\n				\n			\n				\n				\n				\n				\n				\n				\n				\n				\n				\n				\n				\n				\n				\n				\n				\n				\n				\n				THIS TICKET AND PASS GRANTS ACCESS
URL:https://gayskiweek.com/event/hospitality-suite-limelight/2026-01-12/
LOCATION:Limelight\, 355 S. Monarch St\, Aspen\, CO\, 81611\, United States
CATEGORIES:Aspen
ATTACH;FMTTYPE=image/jpeg:https://gayskiweek.com/wp-content/uploads/2024/06/hospitality-suite-best-ski-week-arosa.jpg
GEO:39.1890114;-106.8213686
X-APPLE-STRUCTURED-LOCATION;VALUE=URI;X-ADDRESS=Limelight 355 S. Monarch St Aspen CO 81611 United States;X-APPLE-RADIUS=500;X-TITLE=355 S. Monarch St:geo:-106.8213686,39.1890114
END:VEVENT
BEGIN:VEVENT
DTSTART;TZID=America/Denver:20260112T100000
DTEND;TZID=America/Denver:20260112T150000
DTSTAMP:20260419T083805
CREATED:20230906T141854Z
LAST-MODIFIED:20251001T004214Z
UID:10011544-1768212000-1768230000@gayskiweek.com
SUMMARY:MOUNTAIN DU JOUR: HIGHLANDS
DESCRIPTION:Group meet-ups and ski ambassadors will be announced in the coming weeks. Be sure to follow our social media and sign up for our text message blasts for the latest info on all things Gay Ski Week. \nLooking for lift tickets? Click Here For More Info \nABOUT ASPEN HIGHLANDS \nAspen Highlands is a 12\,500-foot mountain with ambiance and attitude. It is meant to be skied—hard. With 970 acres to play in and a 3\,635-foot vertical\, the mountain is skewed to the advanced skier and is constantly looking for ways to challenge further those up to the task. Deep Temerity\, a speedy triple chair\, climbs 1\,700 vertical feet in just over seven minutes and accesses acres of new\, advanced\, and expert landscape. Plenty of mid-mountain\, easier terrain to practice on before hitting the steps. But for the locals\, it’s all about the Highland Bowl—an off-piste thrill ride—which culminates in untracked descents down 45-degree pitches.
URL:https://gayskiweek.com/event/aspen-highlands-monday/
LOCATION:Aspen Highlands\, 199 Prospector Rd\, Aspen\, 81611\, United States
CATEGORIES:Aspen
ATTACH;FMTTYPE=image/jpeg:https://gayskiweek.com/wp-content/uploads/2023/09/highlands-agsw-2026-ski-week-1.jpg
END:VEVENT
BEGIN:VEVENT
DTSTART;TZID=America/Denver:20260112T150000
DTEND;TZID=America/Denver:20260112T190000
DTSTAMP:20260419T083805
CREATED:20250619T172732Z
LAST-MODIFIED:20250930T011226Z
UID:10015024-1768230000-1768244400@gayskiweek.com
SUMMARY:Après Ski - DAILY 3-7PM
DESCRIPTION:Be sure to follow our social media and sign up for our text message blasts for the latest info on all things Gay Ski Week. \nApres Ski at the Limelight Hotel featuring THE LOUNGE: Aspen Restaurant \nAprèsNo matter what season it is\, we call our happiest four hours of the day “après.” Ask anyone and they’ll tell you it’s the place to be in Aspen from 3–7 pm daily. \nAprès-ski is a French term that literally means “after skiing.” It refers to the social activities that take place after a day of skiing or snowboarding. Après-ski is a great time to socialize with other skiers and snowboarders. You can meet new people\, swap stories about your day on the slopes\, and make new friends. AGSW Après lends itself to having a drink before dinner and getting you loosened up to dance the night away at our nightly events. \n			\n			\n				\n				\n				\n				\n			\n				\n				\n			\n				\n				\n				\n				\n				\n				\n				\n				\n				\n				\n				\n				\n				\n				\n				\n				\n				\n				PASSES THAT GRANT ACCESS TO THIS PARTY
URL:https://gayskiweek.com/event/apres-ski-hot-tub-parties-5/2026-01-12/
LOCATION:Limelight\, 355 S. Monarch St\, Aspen\, CO\, 81611\, United States
CATEGORIES:Aspen
ATTACH;FMTTYPE=image/jpeg:https://gayskiweek.com/wp-content/uploads/2025/06/agsw-limelight-apres-tickets-tres-chic-2026.jpg
GEO:39.1890114;-106.8213686
X-APPLE-STRUCTURED-LOCATION;VALUE=URI;X-ADDRESS=Limelight 355 S. Monarch St Aspen CO 81611 United States;X-APPLE-RADIUS=500;X-TITLE=355 S. Monarch St:geo:-106.8213686,39.1890114
END:VEVENT
BEGIN:VEVENT
DTSTART;TZID=America/Denver:20260112T160000
DTEND;TZID=America/Denver:20260112T190000
DTSTAMP:20260419T083805
CREATED:20251127T192925Z
LAST-MODIFIED:20251208T190842Z
UID:10015046-1768233600-1768244400@gayskiweek.com
SUMMARY:HAPPY HOUR LOUNGE WITH DJ - WAYAN
DESCRIPTION:MORE ABOUT WAYAN\n			\n				\n				\n				\n				\n				Join us for an early evening of cocktails and libations. Wayan hosts a Happy Hour with DJ. No entry fee. \nABOUT WAYANThe newly opened Wayan Aspen marks the highly anticipated debut of Cedric and Ochi Vongerichten’s award-winning French Indonesian cuisine in the Rocky Mountains. After years of successful pop-ups at The Little Nell\, the new brick-and-mortar location combines the dynamic flavors of Southeast Asia with the unique charm of an Aspen chalet. Alongside signature Wayan dishes like Lobster Noodles and Corn Fritters\, look for locally inspired creations like Colorado lamb satays and butterflied trout with sambal tomato sauce. The convivial dining experience is set amidst a warm + welcoming atmosphere complete with an open kitchen\, crackling wood fire and a transportive display of Indonesian and Balinese artwork.
URL:https://gayskiweek.com/event/happy-hour-lounge-with-dj-wayan/
LOCATION:Wayan Aspen\, 614 E Cooper Ave\, Aspen\, CO\, 81611\, United States
CATEGORIES:Aspen
ATTACH;FMTTYPE=image/jpeg:https://gayskiweek.com/wp-content/uploads/2025/11/wayan-aspen-gay-ski-week-2026.jpg
END:VEVENT
BEGIN:VEVENT
DTSTART;TZID=America/Denver:20260112T170000
DTEND;TZID=America/Denver:20260112T210000
DTSTAMP:20260419T083805
CREATED:20251126T222727Z
LAST-MODIFIED:20260110T121617Z
UID:10015044-1768237200-1768251600@gayskiweek.com
SUMMARY:MONDAY NIGHT FRIENDSHIP DINNER - STRANAHANS
DESCRIPTION:VISIT WEBSITE\n			\n				\n				\n				\n				\n				Make a reservation for this extraordinary prix-fixe dinner. Please call or text 970-415-3935 to make your reservation. Space is limited. \nThere are two seatings for this dinner. 5-6PM and 7-8PM. $85 per person. \n			\n				\n				\n				\n				\n				In short\, our Friendship Dinners are designated meet-up meals at high-quality restaurants that help weave the social fabric of the week\, moving beyond the daily skiing and large-scale parties. Join us Monday night at Stranahan’s. \nSTRANAHAN’S WHISKEY LODGEMajestic mountain views\, alpine-inspired bites\, and rare pours await at our new destination for all things après.
URL:https://gayskiweek.com/event/monday-night-friendship-dinner-stranahans/
LOCATION:Stranahan’s Whiskey Lodge\, 307 S Mill St\, Aspen\, 81611\, United States
CATEGORIES:Aspen
ATTACH;FMTTYPE=image/jpeg:https://gayskiweek.com/wp-content/uploads/2025/11/stranahans-friendship-dinner-agsw-2026.jpg
END:VEVENT
BEGIN:VEVENT
DTSTART;TZID=America/Denver:20260112T213000
DTEND;TZID=America/Denver:20260113T000000
DTSTAMP:20260419T083805
CREATED:20251121T025547Z
LAST-MODIFIED:20251219T222805Z
UID:10015042-1768253400-1768262400@gayskiweek.com
SUMMARY:LATE NIGHT DANCING - STRANAHANS
DESCRIPTION:DONATION AT THE DOOR\n			\n				\n				\n				\n				\n				We call it the lifers/local party because\, well\, the lifers and locals come out and show up for it! One of the most low-key\, but energetic nights moves to Stranahans for our Monday night Friendship Dinner\, with late night dancing featuring DJ Autumn Leilani. \nThis is a pay-what-you-want door cover that will support AspenOUT’s Jack Raife Mental Health Fund \nSTRANAHAN’S WHISKEY LODGEMajestic mountain views\, alpine-inspired bites\, and rare pours await at our new destination for all things après. \n			\n			\n				\n				\n				\n				\n			\n				\n				\n			\n				\n				\n				\n				\n				\n				\n				\n				\n				\n				\n				\n				\n				\n				\n				\n				\n				\n				DOES MY PASS GET ME INTO THIS EVENT?
URL:https://gayskiweek.com/event/late-night-dancing-stranahans/
LOCATION:Stranahan’s Whiskey Lodge\, 307 S Mill St\, Aspen\, 81611\, United States
CATEGORIES:Aspen
ATTACH;FMTTYPE=image/jpeg:https://gayskiweek.com/wp-content/uploads/2025/11/stranahans-agsw-2026.jpg
END:VEVENT
END:VCALENDAR