BEGIN:VCALENDAR
VERSION:2.0
PRODID:-//AGSW 2027 - LGBTQ+ Aspen - ECPv6.15.17.1//NONSGML v1.0//EN
CALSCALE:GREGORIAN
METHOD:PUBLISH
X-WR-CALNAME:AGSW 2027 - LGBTQ+ Aspen
X-ORIGINAL-URL:https://gayskiweek.com
X-WR-CALDESC:Events for AGSW 2027 - LGBTQ+ Aspen
REFRESH-INTERVAL;VALUE=DURATION:PT1H
X-Robots-Tag:noindex
X-PUBLISHED-TTL:PT1H
BEGIN:VTIMEZONE
TZID:America/Denver
BEGIN:DAYLIGHT
TZOFFSETFROM:-0700
TZOFFSETTO:-0600
TZNAME:MDT
DTSTART:20250309T090000
END:DAYLIGHT
BEGIN:STANDARD
TZOFFSETFROM:-0600
TZOFFSETTO:-0700
TZNAME:MST
DTSTART:20251102T080000
END:STANDARD
BEGIN:DAYLIGHT
TZOFFSETFROM:-0700
TZOFFSETTO:-0600
TZNAME:MDT
DTSTART:20260308T090000
END:DAYLIGHT
BEGIN:STANDARD
TZOFFSETFROM:-0600
TZOFFSETTO:-0700
TZNAME:MST
DTSTART:20261101T080000
END:STANDARD
BEGIN:DAYLIGHT
TZOFFSETFROM:-0700
TZOFFSETTO:-0600
TZNAME:MDT
DTSTART:20270314T090000
END:DAYLIGHT
BEGIN:STANDARD
TZOFFSETFROM:-0600
TZOFFSETTO:-0700
TZNAME:MST
DTSTART:20271107T080000
END:STANDARD
END:VTIMEZONE
BEGIN:VEVENT
DTSTART;TZID=America/Denver:20260117T150000
DTEND;TZID=America/Denver:20260117T190000
DTSTAMP:20260424T021136
CREATED:20250619T172732Z
LAST-MODIFIED:20250930T011226Z
UID:10015029-1768662000-1768676400@gayskiweek.com
SUMMARY:Après Ski - DAILY 3-7PM
DESCRIPTION:Be sure to follow our social media and sign up for our text message blasts for the latest info on all things Gay Ski Week. \nApres Ski at the Limelight Hotel featuring THE LOUNGE: Aspen Restaurant \nAprèsNo matter what season it is\, we call our happiest four hours of the day “après.” Ask anyone and they’ll tell you it’s the place to be in Aspen from 3–7 pm daily. \nAprès-ski is a French term that literally means “after skiing.” It refers to the social activities that take place after a day of skiing or snowboarding. Après-ski is a great time to socialize with other skiers and snowboarders. You can meet new people\, swap stories about your day on the slopes\, and make new friends. AGSW Après lends itself to having a drink before dinner and getting you loosened up to dance the night away at our nightly events. \n			\n			\n				\n				\n				\n				\n			\n				\n				\n			\n				\n				\n				\n				\n				\n				\n				\n				\n				\n				\n				\n				\n				\n				\n				\n				\n				\n				PASSES THAT GRANT ACCESS TO THIS PARTY
URL:https://gayskiweek.com/event/apres-ski-hot-tub-parties-5/2026-01-17/
LOCATION:Limelight\, 355 S. Monarch St\, Aspen\, CO\, 81611\, United States
CATEGORIES:Aspen
ATTACH;FMTTYPE=image/jpeg:https://gayskiweek.com/wp-content/uploads/2025/06/agsw-limelight-apres-tickets-tres-chic-2026.jpg
GEO:39.1890114;-106.8213686
X-APPLE-STRUCTURED-LOCATION;VALUE=URI;X-ADDRESS=Limelight 355 S. Monarch St Aspen CO 81611 United States;X-APPLE-RADIUS=500;X-TITLE=355 S. Monarch St:geo:-106.8213686,39.1890114
END:VEVENT
END:VCALENDAR